BEGIN:VCALENDAR
VERSION:2.0
PRODID:-//AA District 43 - ECPv6.15.20//NONSGML v1.0//EN
CALSCALE:GREGORIAN
METHOD:PUBLISH
X-WR-CALNAME:AA District 43
X-ORIGINAL-URL:https://www.district43.com
X-WR-CALDESC:Events for AA District 43
REFRESH-INTERVAL;VALUE=DURATION:PT1H
X-Robots-Tag:noindex
X-PUBLISHED-TTL:PT1H
BEGIN:VTIMEZONE
TZID:America/New_York
BEGIN:DAYLIGHT
TZOFFSETFROM:-0500
TZOFFSETTO:-0400
TZNAME:EDT
DTSTART:20160313T070000
END:DAYLIGHT
BEGIN:STANDARD
TZOFFSETFROM:-0400
TZOFFSETTO:-0500
TZNAME:EST
DTSTART:20161106T060000
END:STANDARD
BEGIN:DAYLIGHT
TZOFFSETFROM:-0500
TZOFFSETTO:-0400
TZNAME:EDT
DTSTART:20170312T070000
END:DAYLIGHT
BEGIN:STANDARD
TZOFFSETFROM:-0400
TZOFFSETTO:-0500
TZNAME:EST
DTSTART:20171105T060000
END:STANDARD
BEGIN:DAYLIGHT
TZOFFSETFROM:-0500
TZOFFSETTO:-0400
TZNAME:EDT
DTSTART:20180311T070000
END:DAYLIGHT
BEGIN:STANDARD
TZOFFSETFROM:-0400
TZOFFSETTO:-0500
TZNAME:EST
DTSTART:20181104T060000
END:STANDARD
END:VTIMEZONE
BEGIN:VEVENT
DTSTART;TZID=America/New_York:20171118T060000
DTEND;TZID=America/New_York:20171118T200000
DTSTAMP:20260422T062257
CREATED:20161012T121752Z
LAST-MODIFIED:20171013T185425Z
UID:827-1510984800-1511035200@www.district43.com
SUMMARY:Centre Hall Anniversary Pot Luck
DESCRIPTION:Centre Hall AA Group is hosting a potluck dinner to celebrate their meeting’s anniversary! \nSaturday\, November 18\, 2017. \nFellowship and Dinner at 6:00 PM. \nOpen Speaker Meeting at 7:00 PM.
URL:https://www.district43.com/event/centre-hall-anniversary-pot-luck/
LOCATION:Saint Luke’s Lutheran Church\, 301 Pennsylvania Avenue\, Centre Hall\, United States
CATEGORIES:Meeting Anniversary
ATTACH;FMTTYPE=image/jpeg:https://www.district43.com/wp-content/uploads/2016/10/Potluck.jpg
END:VEVENT
END:VCALENDAR