BEGIN:VCALENDAR
VERSION:2.0
PRODID:-//AA District 43 - ECPv6.15.20//NONSGML v1.0//EN
CALSCALE:GREGORIAN
METHOD:PUBLISH
X-WR-CALNAME:AA District 43
X-ORIGINAL-URL:https://www.district43.com
X-WR-CALDESC:Events for AA District 43
REFRESH-INTERVAL;VALUE=DURATION:PT1H
X-Robots-Tag:noindex
X-PUBLISHED-TTL:PT1H
BEGIN:VTIMEZONE
TZID:America/New_York
BEGIN:DAYLIGHT
TZOFFSETFROM:-0500
TZOFFSETTO:-0400
TZNAME:EDT
DTSTART:20220313T070000
END:DAYLIGHT
BEGIN:STANDARD
TZOFFSETFROM:-0400
TZOFFSETTO:-0500
TZNAME:EST
DTSTART:20221106T060000
END:STANDARD
BEGIN:DAYLIGHT
TZOFFSETFROM:-0500
TZOFFSETTO:-0400
TZNAME:EDT
DTSTART:20230312T070000
END:DAYLIGHT
BEGIN:STANDARD
TZOFFSETFROM:-0400
TZOFFSETTO:-0500
TZNAME:EST
DTSTART:20231105T060000
END:STANDARD
BEGIN:DAYLIGHT
TZOFFSETFROM:-0500
TZOFFSETTO:-0400
TZNAME:EDT
DTSTART:20240310T070000
END:DAYLIGHT
BEGIN:STANDARD
TZOFFSETFROM:-0400
TZOFFSETTO:-0500
TZNAME:EST
DTSTART:20241103T060000
END:STANDARD
END:VTIMEZONE
BEGIN:VEVENT
DTSTART;TZID=America/New_York:20231103T190000
DTEND;TZID=America/New_York:20231103T210000
DTSTAMP:20260425T121556
CREATED:20231008T234210Z
LAST-MODIFIED:20231009T171353Z
UID:2627-1699038000-1699045200@www.district43.com
SUMMARY:Medallion Night - November 3\, 2023
DESCRIPTION:Medallion Night will be on November 3\, 2023\, at St. Andrews Church in State College. We hope to see you there!
URL:https://www.district43.com/event/medallion-night-october-27/
LOCATION:Saint Andrew’s Church\, 208 W. Foster Avenue\, State College\, PA\, 16801\, United States
CATEGORIES:Medallion Night
ATTACH;FMTTYPE=image/jpeg:https://www.district43.com/wp-content/uploads/2016/03/Medallion-Coins-Header-1.jpg
END:VEVENT
END:VCALENDAR